BEGIN:VCALENDAR
VERSION:2.0
PRODID:-//Holy Family Catholic Church - ECPv6.15.17//NONSGML v1.0//EN
CALSCALE:GREGORIAN
METHOD:PUBLISH
X-WR-CALNAME:Holy Family Catholic Church
X-ORIGINAL-URL:https://holyfamilyathens.com
X-WR-CALDESC:Events for Holy Family Catholic Church
REFRESH-INTERVAL;VALUE=DURATION:PT1H
X-Robots-Tag:noindex
X-PUBLISHED-TTL:PT1H
BEGIN:VTIMEZONE
TZID:America/Chicago
BEGIN:DAYLIGHT
TZOFFSETFROM:-0600
TZOFFSETTO:-0500
TZNAME:CDT
DTSTART:20240310T080000
END:DAYLIGHT
BEGIN:STANDARD
TZOFFSETFROM:-0500
TZOFFSETTO:-0600
TZNAME:CST
DTSTART:20241103T070000
END:STANDARD
BEGIN:DAYLIGHT
TZOFFSETFROM:-0600
TZOFFSETTO:-0500
TZNAME:CDT
DTSTART:20250309T080000
END:DAYLIGHT
BEGIN:STANDARD
TZOFFSETFROM:-0500
TZOFFSETTO:-0600
TZNAME:CST
DTSTART:20251102T070000
END:STANDARD
BEGIN:DAYLIGHT
TZOFFSETFROM:-0600
TZOFFSETTO:-0500
TZNAME:CDT
DTSTART:20260308T080000
END:DAYLIGHT
BEGIN:STANDARD
TZOFFSETFROM:-0500
TZOFFSETTO:-0600
TZNAME:CST
DTSTART:20261101T070000
END:STANDARD
END:VTIMEZONE
BEGIN:VEVENT
DTSTART;TZID=America/Chicago:20250311T140000
DTEND;TZID=America/Chicago:20250311T180000
DTSTAMP:20260422T053436
CREATED:20250306T232354Z
LAST-MODIFIED:20250306T232354Z
UID:256-1741701600-1741716000@holyfamilyathens.com
SUMMARY:Eucharistic Adoration
DESCRIPTION:Join us for Adoration
URL:https://holyfamilyathens.com/event/eucharistic-adoration/
END:VEVENT
BEGIN:VEVENT
DTSTART;TZID=America/Chicago:20250427T140000
DTEND;TZID=America/Chicago:20250427T150000
DTSTAMP:20260422T053436
CREATED:20250314T211358Z
LAST-MODIFIED:20250314T211358Z
UID:309-1745762400-1745766000@holyfamilyathens.com
SUMMARY:Cathedral of Immaculate Conception Divine Mercy Mass
DESCRIPTION:Divine Mercy (Cathedral of Immaculate Conception) Mass at  2:00PM
URL:https://holyfamilyathens.com/event/cathedral-of-immaculate-conception-divine-mercy-mass/
END:VEVENT
BEGIN:VEVENT
DTSTART;TZID=America/Chicago:20250427T100000
DTEND;TZID=America/Chicago:20250427T110000
DTSTAMP:20260422T053436
CREATED:20250314T211148Z
LAST-MODIFIED:20250314T211148Z
UID:307-1745748000-1745751600@holyfamilyathens.com
SUMMARY:Divine Mercy Sunday
DESCRIPTION:Divine Mercy Sunday 10 AM Mass
URL:https://holyfamilyathens.com/event/divine-mercy-sunday/
END:VEVENT
BEGIN:VEVENT
DTSTART;TZID=America/Chicago:20250311T140000
DTEND;TZID=America/Chicago:20250311T180000
DTSTAMP:20260422T053436
CREATED:20250306T232354Z
LAST-MODIFIED:20250306T232354Z
UID:256-1741701600-1741716000@holyfamilyathens.com
SUMMARY:Eucharistic Adoration
DESCRIPTION:Join us for Adoration
URL:https://holyfamilyathens.com/event/eucharistic-adoration/
END:VEVENT
BEGIN:VEVENT
DTSTART;TZID=America/Chicago:20250420T100000
DTEND;TZID=America/Chicago:20250420T110000
DTSTAMP:20260422T053436
CREATED:20250314T210804Z
LAST-MODIFIED:20250314T210857Z
UID:304-1745143200-1745146800@holyfamilyathens.com
SUMMARY:Easter Sunday Mass & Eggcellent youth gift from Father
DESCRIPTION:Easter Sunday 10 AM Mass & Eggcellent youth gift from Father.
URL:https://holyfamilyathens.com/event/easter-sunday/
END:VEVENT
BEGIN:VEVENT
DTSTART;TZID=America/Chicago:20250419T193000
DTEND;TZID=America/Chicago:20250419T213000
DTSTAMP:20260422T053436
CREATED:20250314T210651Z
LAST-MODIFIED:20250314T210651Z
UID:302-1745091000-1745098200@holyfamilyathens.com
SUMMARY:Holy Saturday 7:30 PM Easter Vigil
DESCRIPTION:Holy Saturday 7:30 PM Easter Vigil
URL:https://holyfamilyathens.com/event/holy-saturday-730-pm-easter-vigil/
END:VEVENT
BEGIN:VEVENT
DTSTART;TZID=America/Chicago:20250418T180000
DTEND;TZID=America/Chicago:20250418T190000
DTSTAMP:20260422T053436
CREATED:20250314T210508Z
LAST-MODIFIED:20250314T210508Z
UID:300-1744999200-1745002800@holyfamilyathens.com
SUMMARY:Good Friday
DESCRIPTION:Good Friday 6PM Passion Service
URL:https://holyfamilyathens.com/event/good-friday/
END:VEVENT
BEGIN:VEVENT
DTSTART;TZID=America/Chicago:20250417T180000
DTEND;TZID=America/Chicago:20250417T190000
DTSTAMP:20260422T053436
CREATED:20250314T210349Z
LAST-MODIFIED:20250314T210349Z
UID:298-1744912800-1744916400@holyfamilyathens.com
SUMMARY:Holy Thursday
DESCRIPTION:Holy Thursday 6PM Mass
URL:https://holyfamilyathens.com/event/holy-thursday/
END:VEVENT
BEGIN:VEVENT
DTSTART;TZID=America/Chicago:20250312T173000
DTEND;TZID=America/Chicago:20250312T180000
DTSTAMP:20260422T053436
CREATED:20250306T235149Z
LAST-MODIFIED:20250306T235149Z
UID:262-1741800600-1741802400@holyfamilyathens.com
SUMMARY:Stations of the Cross
DESCRIPTION:
URL:https://holyfamilyathens.com/event/stations-of-the-cross/
END:VEVENT
BEGIN:VEVENT
DTSTART;TZID=America/Chicago:20250415T180000
DTEND;TZID=America/Chicago:20250415T183000
DTSTAMP:20260422T053436
CREATED:20250403T211121Z
LAST-MODIFIED:20250403T211121Z
UID:336-1744740000-1744741800@holyfamilyathens.com
SUMMARY:No Mass @ Holy Family Church
DESCRIPTION:There is no Mass at Holy Family on Tuesday evening… No Communion Service as Deacon Ben will be accompanying Father at the Chrism Mass\, Cathedral of Immaculate Conception \nhttps://dio.org/event/attend-the-chrism-mass-with-members-from-every-parish-in-our-diocese-at-the-cathedral-during-holy-week/
URL:https://holyfamilyathens.com/event/no-mass-holy-family-church/
END:VEVENT
BEGIN:VEVENT
DTSTART;TZID=America/Chicago:20250311T140000
DTEND;TZID=America/Chicago:20250311T180000
DTSTAMP:20260422T053436
CREATED:20250306T232354Z
LAST-MODIFIED:20250306T232354Z
UID:256-1741701600-1741716000@holyfamilyathens.com
SUMMARY:Eucharistic Adoration
DESCRIPTION:Join us for Adoration
URL:https://holyfamilyathens.com/event/eucharistic-adoration/
END:VEVENT
BEGIN:VEVENT
DTSTART;TZID=America/Chicago:20250413T100000
DTEND;TZID=America/Chicago:20250413T110000
DTSTAMP:20260422T053436
CREATED:20250314T210125Z
LAST-MODIFIED:20250314T210125Z
UID:296-1744538400-1744542000@holyfamilyathens.com
SUMMARY:Palm Sunday Mass 10:00am
DESCRIPTION:Palm Sunday 10AM Mass
URL:https://holyfamilyathens.com/event/palm-sunday-mass-1000am/
END:VEVENT
BEGIN:VEVENT
DTSTART;TZID=America/Chicago:20250312T173000
DTEND;TZID=America/Chicago:20250312T180000
DTSTAMP:20260422T053436
CREATED:20250306T235149Z
LAST-MODIFIED:20250306T235149Z
UID:262-1741800600-1741802400@holyfamilyathens.com
SUMMARY:Stations of the Cross
DESCRIPTION:
URL:https://holyfamilyathens.com/event/stations-of-the-cross/
END:VEVENT
BEGIN:VEVENT
DTSTART;TZID=America/Chicago:20250408T183000
DTEND;TZID=America/Chicago:20250408T193000
DTSTAMP:20260422T053436
CREATED:20250314T205824Z
LAST-MODIFIED:20250314T205824Z
UID:294-1744137000-1744140600@holyfamilyathens.com
SUMMARY:Lenten Reconciliation
DESCRIPTION:Lenten Reconciliation 6:30PM-7:30PM
URL:https://holyfamilyathens.com/event/lenten-reconciliation/
END:VEVENT
BEGIN:VEVENT
DTSTART;TZID=America/Chicago:20250311T140000
DTEND;TZID=America/Chicago:20250311T180000
DTSTAMP:20260422T053436
CREATED:20250306T232354Z
LAST-MODIFIED:20250306T232354Z
UID:256-1741701600-1741716000@holyfamilyathens.com
SUMMARY:Eucharistic Adoration
DESCRIPTION:Join us for Adoration
URL:https://holyfamilyathens.com/event/eucharistic-adoration/
END:VEVENT
BEGIN:VEVENT
DTSTART;TZID=America/Chicago:20250406T140000
DTEND;TZID=America/Chicago:20250406T180000
DTSTAMP:20260422T053436
CREATED:20250314T205604Z
LAST-MODIFIED:20250314T205604Z
UID:292-1743948000-1743962400@holyfamilyathens.com
SUMMARY:Lenten Speaker Father Gregory Dick (St. Peter) Parish Center
DESCRIPTION:Father Gregory to speak on reconciliation at Parish Center.  Adoration to follow and confession until 6PM. All are welcome.
URL:https://holyfamilyathens.com/event/lenten-speaker-father-gregory-dick-st-peter-parish-center/
END:VEVENT
BEGIN:VEVENT
DTSTART;TZID=America/Chicago:20250404T110000
DTEND;TZID=America/Chicago:20250404T190000
DTSTAMP:20260422T053436
CREATED:20250314T205344Z
LAST-MODIFIED:20250314T205344Z
UID:290-1743764400-1743793200@holyfamilyathens.com
SUMMARY:St. Peter Annual Fish Fry and Benefit
DESCRIPTION:Wankel’s 11-2 Lunch\, 4-7 Dinner. Contact office for advance tickets.
URL:https://holyfamilyathens.com/event/st-peter-annual-fish-fry-and-benefit/
END:VEVENT
BEGIN:VEVENT
DTSTART;TZID=America/Chicago:20250312T173000
DTEND;TZID=America/Chicago:20250312T180000
DTSTAMP:20260422T053436
CREATED:20250306T235149Z
LAST-MODIFIED:20250306T235149Z
UID:262-1741800600-1741802400@holyfamilyathens.com
SUMMARY:Stations of the Cross
DESCRIPTION:
URL:https://holyfamilyathens.com/event/stations-of-the-cross/
END:VEVENT
BEGIN:VEVENT
DTSTART;TZID=America/Chicago:20250311T140000
DTEND;TZID=America/Chicago:20250311T180000
DTSTAMP:20260422T053436
CREATED:20250306T232354Z
LAST-MODIFIED:20250306T232354Z
UID:256-1741701600-1741716000@holyfamilyathens.com
SUMMARY:Eucharistic Adoration
DESCRIPTION:Join us for Adoration
URL:https://holyfamilyathens.com/event/eucharistic-adoration/
END:VEVENT
BEGIN:VEVENT
DTSTART;TZID=America/Chicago:20250330T110000
DTEND;TZID=America/Chicago:20250330T123000
DTSTAMP:20260422T053436
CREATED:20250314T205113Z
LAST-MODIFIED:20250314T205113Z
UID:288-1743332400-1743337800@holyfamilyathens.com
SUMMARY:Father Varghese Birthday Potluck (Holy Family Church)
DESCRIPTION:Join us in the North Wing after 10 AM mass for food and celebration. Sign up sheet in Vestibule. All are welcome.
URL:https://holyfamilyathens.com/event/father-varghese-birthday-potluck-holy-family-church/
END:VEVENT
BEGIN:VEVENT
DTSTART;TZID=America/Chicago:20250329T173000
DTEND;TZID=America/Chicago:20250329T190000
DTSTAMP:20260422T053436
CREATED:20250314T204916Z
LAST-MODIFIED:20250314T204916Z
UID:286-1743269400-1743274800@holyfamilyathens.com
SUMMARY:Father Varghese Birthday Potluck (St Peter)
DESCRIPTION:Join us in the parish center after 4:30 mass for food and celebration. Signup sheet in the Annex. All are welcome.
URL:https://holyfamilyathens.com/event/father-varghese-birthday-potluck-st-peter/
END:VEVENT
BEGIN:VEVENT
DTSTART;TZID=America/Chicago:20250312T173000
DTEND;TZID=America/Chicago:20250312T180000
DTSTAMP:20260422T053436
CREATED:20250306T235149Z
LAST-MODIFIED:20250306T235149Z
UID:262-1741800600-1741802400@holyfamilyathens.com
SUMMARY:Stations of the Cross
DESCRIPTION:
URL:https://holyfamilyathens.com/event/stations-of-the-cross/
END:VEVENT
BEGIN:VEVENT
DTSTART;TZID=America/Chicago:20250311T140000
DTEND;TZID=America/Chicago:20250311T180000
DTSTAMP:20260422T053436
CREATED:20250306T232354Z
LAST-MODIFIED:20250306T232354Z
UID:256-1741701600-1741716000@holyfamilyathens.com
SUMMARY:Eucharistic Adoration
DESCRIPTION:Join us for Adoration
URL:https://holyfamilyathens.com/event/eucharistic-adoration/
END:VEVENT
BEGIN:VEVENT
DTSTART;TZID=America/Chicago:20250325T130000
DTEND;TZID=America/Chicago:20250325T180000
DTSTAMP:20260422T053436
CREATED:20250303T214238Z
LAST-MODIFIED:20250303T214238Z
UID:250-1742907600-1742925600@holyfamilyathens.com
SUMMARY:Illinois Pro-Life March at State Capital in Springfield
DESCRIPTION:Join us for the Illinois Pro-Life March on Tuesday\, March 25 at the Lincoln Statue in front of the Illinois Capitol Building. \n401 S 2nd St\, Springfield\, IL 62701 \nTHE AGENDA* \n1PM – The Rally \n2PM – The March \n3PM – Lobbying \nFor more information please visit http://www.illinoisprolifemarch.com \n 
URL:https://holyfamilyathens.com/event/illinois-pro-life-march-at-state-capital-in-springfield/
END:VEVENT
BEGIN:VEVENT
DTSTART;VALUE=DATE:20250325
DTEND;VALUE=DATE:20250327
DTSTAMP:20260422T053436
CREATED:20250130T205821Z
LAST-MODIFIED:20250130T205821Z
UID:224-1742860800-1743033599@holyfamilyathens.com
SUMMARY:SDCCW Lenten Retreat
DESCRIPTION:Springfield Diocesan Council of Catholic Women invites you to attend a 2-day retreat at Villa Maria in Springfield\, IL. More information to come.
URL:https://holyfamilyathens.com/event/sdccw-lenten-retreat/
END:VEVENT
BEGIN:VEVENT
DTSTART;TZID=America/Chicago:20250312T173000
DTEND;TZID=America/Chicago:20250312T180000
DTSTAMP:20260422T053436
CREATED:20250306T235149Z
LAST-MODIFIED:20250306T235149Z
UID:262-1741800600-1741802400@holyfamilyathens.com
SUMMARY:Stations of the Cross
DESCRIPTION:
URL:https://holyfamilyathens.com/event/stations-of-the-cross/
END:VEVENT
BEGIN:VEVENT
DTSTART;TZID=America/Chicago:20250319T093000
DTEND;TZID=America/Chicago:20250319T110000
DTSTAMP:20260422T053436
CREATED:20250314T204717Z
LAST-MODIFIED:20250314T204717Z
UID:284-1742376600-1742382000@holyfamilyathens.com
SUMMARY:Woman's Lenten Breakfast
DESCRIPTION:Women’s Lenten Breakfast at St Peter Parish Center 9:30-11AMThis year’s book is Give Up Something Bad for Lent by James W Morre. Offering to be donated to Menard County Transport.\nBreakfast @ 9:30am followed by program at 10AM. All women are welcome to attend.
URL:https://holyfamilyathens.com/event/womans-lenten-breakfast/
END:VEVENT
BEGIN:VEVENT
DTSTART;TZID=America/Chicago:20250311T140000
DTEND;TZID=America/Chicago:20250311T180000
DTSTAMP:20260422T053436
CREATED:20250306T232354Z
LAST-MODIFIED:20250306T232354Z
UID:256-1741701600-1741716000@holyfamilyathens.com
SUMMARY:Eucharistic Adoration
DESCRIPTION:Join us for Adoration
URL:https://holyfamilyathens.com/event/eucharistic-adoration/
END:VEVENT
BEGIN:VEVENT
DTSTART;TZID=America/Chicago:20250312T173000
DTEND;TZID=America/Chicago:20250312T180000
DTSTAMP:20260422T053436
CREATED:20250306T235149Z
LAST-MODIFIED:20250306T235149Z
UID:262-1741800600-1741802400@holyfamilyathens.com
SUMMARY:Stations of the Cross
DESCRIPTION:
URL:https://holyfamilyathens.com/event/stations-of-the-cross/
END:VEVENT
BEGIN:VEVENT
DTSTART;TZID=America/Chicago:20250311T140000
DTEND;TZID=America/Chicago:20250311T180000
DTSTAMP:20260422T053436
CREATED:20250306T232354Z
LAST-MODIFIED:20250306T232354Z
UID:256-1741701600-1741716000@holyfamilyathens.com
SUMMARY:Eucharistic Adoration
DESCRIPTION:Join us for Adoration
URL:https://holyfamilyathens.com/event/eucharistic-adoration/
END:VEVENT
END:VCALENDAR