BEGIN:VCALENDAR
VERSION:2.0
PRODID:-//Holy Family Catholic Church - ECPv6.15.17//NONSGML v1.0//EN
CALSCALE:GREGORIAN
METHOD:PUBLISH
X-WR-CALNAME:Holy Family Catholic Church
X-ORIGINAL-URL:https://holyfamilyathens.com
X-WR-CALDESC:Events for Holy Family Catholic Church
REFRESH-INTERVAL;VALUE=DURATION:PT1H
X-Robots-Tag:noindex
X-PUBLISHED-TTL:PT1H
BEGIN:VTIMEZONE
TZID:America/Chicago
BEGIN:DAYLIGHT
TZOFFSETFROM:-0600
TZOFFSETTO:-0500
TZNAME:CDT
DTSTART:20230312T080000
END:DAYLIGHT
BEGIN:STANDARD
TZOFFSETFROM:-0500
TZOFFSETTO:-0600
TZNAME:CST
DTSTART:20231105T070000
END:STANDARD
BEGIN:DAYLIGHT
TZOFFSETFROM:-0600
TZOFFSETTO:-0500
TZNAME:CDT
DTSTART:20240310T080000
END:DAYLIGHT
BEGIN:STANDARD
TZOFFSETFROM:-0500
TZOFFSETTO:-0600
TZNAME:CST
DTSTART:20241103T070000
END:STANDARD
BEGIN:DAYLIGHT
TZOFFSETFROM:-0600
TZOFFSETTO:-0500
TZNAME:CDT
DTSTART:20250309T080000
END:DAYLIGHT
BEGIN:STANDARD
TZOFFSETFROM:-0500
TZOFFSETTO:-0600
TZNAME:CST
DTSTART:20251102T070000
END:STANDARD
END:VTIMEZONE
BEGIN:VEVENT
DTSTART;TZID=America/Chicago:20240907T163000
DTEND;TZID=America/Chicago:20240907T173000
DTSTAMP:20260422T143913
CREATED:20240905T092354Z
LAST-MODIFIED:20240905T092354Z
UID:83-1725726600-1725730200@holyfamilyathens.com
SUMMARY:Fr. Varghese Installation Mass
DESCRIPTION:St Peter Catholic Church\, Petersburg \nReception to follow Hill Prairie Winery
URL:https://holyfamilyathens.com/event/fr-varghese-installation-mass/
END:VEVENT
BEGIN:VEVENT
DTSTART;TZID=America/Chicago:20240803T173000
DTEND;TZID=America/Chicago:20240803T220000
DTSTAMP:20260422T143913
CREATED:20240719T154907Z
LAST-MODIFIED:20240719T154907Z
UID:28-1722706200-1722722400@holyfamilyathens.com
SUMMARY:Father Maurice Yonta Party
DESCRIPTION:Holy Family & St. Peter Parishioners: \nFather is transferring in August to different parishes as their Pastor. Come share a meal with him and your fellow parishioners on August 3rd\, 2024 at Wankel’s in Petersburg\, starting at 5:30pm. The address is 18239 Kelly Street in Petersburg. Meat\, drinks\, tableware\, and dessert will be furnished. Alcohol is available for purchase. \nSign up is available at both churches until July 21\, 2024.  \nWe are asking for anyone with the last name of A-G to bring an appetizer.\nAnyone with the last name of H-P to bring a salad dish.\nAnyone with the last name of Q-Z to being a potato or vegetable dish to share. \nFr. Maurice Yonta\, S.A.C.
URL:https://holyfamilyathens.com/event/father-maurice-yonta-party/
LOCATION:Wankels\, 18239 Kelly Street\, Petersburg\, IL\, 62675\, United States
END:VEVENT
END:VCALENDAR